Index of /checkResults/release/bioc-LATEST/MMAPPR2/raw-results/nebbiolo1
Name
Last modified
Size
Description
Parent Directory
-
buildsrc-out.txt
03-Jul-2024 23:19
3.4K
buildsrc-summary.dcf
03-Jul-2024 23:19
333
install-out.txt
03-Jul-2024 23:19
1.2K
install-summary.dcf
03-Jul-2024 23:19
259