Index of /checkResults/release/bioc-LATEST/MIRit/raw-results/palomino3
Name
Last modified
Size
Description
Parent Directory
-
install-summary.dcf
29-Jun-2024 06:41
263
buildsrc-summary.dcf
29-Jun-2024 06:41
362
buildsrc-out.txt
29-Jun-2024 06:41
1.0K
install-out.txt
29-Jun-2024 06:41
1.9K