Index of /checkResults/release/bioc-LATEST/MEIGOR/raw-results
Name
Last modified
Size
Description
Parent Directory
-
info.dcf
15-Jun-2024 03:37
269
kjohnson3/
12-Jun-2024 03:43
-
kunpeng2/
10-May-2024 00:41
-
lconway/
12-Jun-2024 03:42
-
nebbiolo1/
15-Jun-2024 03:37
-
palomino3/
15-Jun-2024 03:38
-