Index of /checkResults/release/bioc-LATEST/MAIT/raw-results/kjohnson1
Name
Last modified
Size
Description
Parent Directory
-
buildsrc-out.txt
26-Jun-2024 06:43
2.5K
buildsrc-summary.dcf
26-Jun-2024 06:43
337
install-out.txt
26-Jun-2024 06:43
1.1K
install-summary.dcf
26-Jun-2024 06:43
263