Name | Last modified | Size | Description | |
---|---|---|---|---|
Parent Directory | - | |||
buildsrc-out.txt | 19-Jun-2024 06:57 | 798 | ||
buildsrc-summary.dcf | 19-Jun-2024 06:57 | 412 | ||
checksrc-out.txt | 19-Jun-2024 06:57 | 14K | ||
checksrc-summary.dcf | 19-Jun-2024 06:57 | 406 | ||
install-out.txt | 19-Jun-2024 06:57 | 1.2K | ||
install-summary.dcf | 19-Jun-2024 06:57 | 255 | ||