Name | Last modified | Size | Description | |
---|---|---|---|---|
Parent Directory | - | |||
buildbin-out.txt | 29-Jun-2024 06:45 | 1.2K | ||
buildbin-summary.dcf | 29-Jun-2024 06:45 | 530 | ||
buildsrc-out.txt | 29-Jun-2024 06:45 | 879 | ||
buildsrc-summary.dcf | 29-Jun-2024 06:45 | 426 | ||
checksrc-out.txt | 29-Jun-2024 06:45 | 8.1K | ||
checksrc-summary.dcf | 29-Jun-2024 06:45 | 449 | ||
install-out.txt | 29-Jun-2024 06:45 | 1.1K | ||
install-summary.dcf | 29-Jun-2024 06:45 | 269 | ||