Name | Last modified | Size | Description | |
---|---|---|---|---|
Parent Directory | - | |||
install-summary.dcf | 29-Jun-2024 06:41 | 282 | ||
install-out.txt | 29-Jun-2024 06:41 | 3.1K | ||
checksrc-summary.dcf | 29-Jun-2024 06:41 | 475 | ||
checksrc-out.txt | 29-Jun-2024 06:41 | 4.4K | ||
buildsrc-summary.dcf | 29-Jun-2024 06:41 | 480 | ||
buildsrc-out.txt | 29-Jun-2024 06:41 | 906 | ||
buildbin-summary.dcf | 29-Jun-2024 06:41 | 557 | ||
buildbin-out.txt | 29-Jun-2024 06:41 | 3.2K | ||