Name | Last modified | Size | Description | |
---|---|---|---|---|
Parent Directory | - | |||
install-summary.dcf | 13-Jul-2024 06:38 | 273 | ||
install-out.txt | 13-Jul-2024 06:38 | 2.8K | ||
checksrc-summary.dcf | 13-Jul-2024 06:38 | 442 | ||
checksrc-out.txt | 13-Jul-2024 06:38 | 3.8K | ||
buildsrc-summary.dcf | 13-Jul-2024 06:38 | 438 | ||
buildsrc-out.txt | 13-Jul-2024 06:38 | 864 | ||