Name | Last modified | Size | Description | |
---|---|---|---|---|
Parent Directory | - | |||
install-summary.dcf | 13-Jul-2024 06:41 | 284 | ||
install-out.txt | 13-Jul-2024 06:41 | 3.1K | ||
checksrc-summary.dcf | 13-Jul-2024 06:41 | 472 | ||
checksrc-out.txt | 13-Jul-2024 06:41 | 3.9K | ||
buildsrc-summary.dcf | 13-Jul-2024 06:41 | 447 | ||
buildsrc-out.txt | 13-Jul-2024 06:41 | 874 | ||
buildbin-summary.dcf | 13-Jul-2024 06:41 | 573 | ||
buildbin-out.txt | 13-Jul-2024 06:41 | 5.3K | ||