Name | Last modified | Size | Description | |
---|---|---|---|---|
Parent Directory | - | |||
buildbin-out.txt | 03-Jul-2024 23:22 | 1.1K | ||
buildbin-summary.dcf | 03-Jul-2024 23:22 | 515 | ||
buildsrc-out.txt | 03-Jul-2024 23:22 | 870 | ||
buildsrc-summary.dcf | 03-Jul-2024 23:22 | 420 | ||
checksrc-out.txt | 03-Jul-2024 23:22 | 3.9K | ||
checksrc-summary.dcf | 03-Jul-2024 23:22 | 434 | ||
install-out.txt | 03-Jul-2024 23:22 | 1.0K | ||
install-summary.dcf | 03-Jul-2024 23:22 | 264 | ||