Name | Last modified | Size | Description | |
---|---|---|---|---|
Parent Directory | - | |||
buildbin-summary.dcf | 17-Jul-2024 06:39 | 533 | ||
buildbin-out.txt | 17-Jul-2024 06:39 | 2.1K | ||
checksrc-out.txt | 17-Jul-2024 06:39 | 5.6K | ||
checksrc-summary.dcf | 17-Jul-2024 06:39 | 458 | ||
buildsrc-summary.dcf | 17-Jul-2024 06:39 | 463 | ||
buildsrc-out.txt | 17-Jul-2024 06:39 | 886 | ||
install-summary.dcf | 17-Jul-2024 06:39 | 274 | ||
install-out.txt | 17-Jul-2024 06:39 | 1.9K | ||