Name | Last modified | Size | Description | |
---|---|---|---|---|
Parent Directory | - | |||
buildbin-out.txt | 26-Jun-2024 06:40 | 1.1K | ||
buildbin-summary.dcf | 26-Jun-2024 06:40 | 531 | ||
buildsrc-out.txt | 26-Jun-2024 06:40 | 890 | ||
buildsrc-summary.dcf | 26-Jun-2024 06:40 | 463 | ||
checksrc-out.txt | 26-Jun-2024 06:40 | 3.7K | ||
checksrc-summary.dcf | 26-Jun-2024 06:40 | 458 | ||
install-out.txt | 26-Jun-2024 06:40 | 971 | ||
install-summary.dcf | 26-Jun-2024 06:40 | 273 | ||