Name | Last modified | Size | Description | |
---|---|---|---|---|
Parent Directory | - | |||
install-out.txt | 29-Jun-2024 06:41 | 4.3K | ||
install-summary.dcf | 29-Jun-2024 06:41 | 274 | ||
buildsrc-out.txt | 29-Jun-2024 06:41 | 946 | ||
buildsrc-summary.dcf | 29-Jun-2024 06:41 | 464 | ||
checksrc-out.txt | 29-Jun-2024 06:41 | 6.6K | ||
checksrc-summary.dcf | 29-Jun-2024 06:41 | 465 | ||
buildbin-out.txt | 29-Jun-2024 06:41 | 4.5K | ||
buildbin-summary.dcf | 29-Jun-2024 06:41 | 533 | ||