Name | Last modified | Size | Description | |
---|---|---|---|---|
Parent Directory | - | |||
install-summary.dcf | 10-Jul-2024 06:43 | 275 | ||
buildsrc-summary.dcf | 10-Jul-2024 06:43 | 434 | ||
checksrc-summary.dcf | 10-Jul-2024 06:43 | 461 | ||
buildbin-summary.dcf | 10-Jul-2024 06:43 | 548 | ||
buildsrc-out.txt | 10-Jul-2024 06:43 | 921 | ||
install-out.txt | 10-Jul-2024 06:43 | 4.1K | ||
buildbin-out.txt | 10-Jul-2024 06:43 | 6.1K | ||
checksrc-out.txt | 10-Jul-2024 06:43 | 6.4K | ||