Name | Last modified | Size | Description | |
---|---|---|---|---|
Parent Directory | - | |||
buildbin-out.txt | 03-Jul-2024 23:22 | 6.1K | ||
buildbin-summary.dcf | 03-Jul-2024 23:22 | 548 | ||
buildsrc-out.txt | 03-Jul-2024 23:22 | 921 | ||
buildsrc-summary.dcf | 03-Jul-2024 23:22 | 436 | ||
checksrc-out.txt | 03-Jul-2024 23:22 | 6.4K | ||
checksrc-summary.dcf | 03-Jul-2024 23:22 | 461 | ||
install-out.txt | 03-Jul-2024 23:22 | 4.1K | ||
install-summary.dcf | 03-Jul-2024 23:22 | 275 | ||