Name | Last modified | Size | Description | |
---|---|---|---|---|
Parent Directory | - | |||
install-summary.dcf | 29-Jun-2024 06:40 | 258 | ||
install-out.txt | 29-Jun-2024 06:40 | 3.1K | ||
buildsrc-out.txt | 29-Jun-2024 06:40 | 898 | ||
buildsrc-summary.dcf | 29-Jun-2024 06:40 | 415 | ||
checksrc-summary.dcf | 29-Jun-2024 06:40 | 412 | ||
checksrc-out.txt | 29-Jun-2024 06:40 | 3.7K | ||