Name | Last modified | Size | Description | |
---|---|---|---|---|
Parent Directory | - | |||
buildbin-out.txt | 29-Jun-2024 06:43 | 6.0K | ||
buildbin-summary.dcf | 29-Jun-2024 06:43 | 527 | ||
buildsrc-out.txt | 29-Jun-2024 06:43 | 908 | ||
buildsrc-summary.dcf | 29-Jun-2024 06:43 | 425 | ||
checksrc-out.txt | 29-Jun-2024 06:43 | 3.8K | ||
checksrc-summary.dcf | 29-Jun-2024 06:43 | 442 | ||
install-out.txt | 29-Jun-2024 06:43 | 4.0K | ||
install-summary.dcf | 29-Jun-2024 06:43 | 268 | ||