Name | Last modified | Size | Description | |
---|---|---|---|---|
Parent Directory | - | |||
buildbin-out.txt | 03-Jul-2024 23:20 | 1.2K | ||
buildbin-summary.dcf | 03-Jul-2024 23:20 | 588 | ||
buildsrc-out.txt | 03-Jul-2024 23:20 | 959 | ||
buildsrc-summary.dcf | 03-Jul-2024 23:20 | 501 | ||
checksrc-out.txt | 03-Jul-2024 23:20 | 3.8K | ||
checksrc-summary.dcf | 03-Jul-2024 23:20 | 495 | ||
install-out.txt | 03-Jul-2024 23:20 | 1.0K | ||
install-summary.dcf | 03-Jul-2024 23:20 | 293 | ||