Name | Last modified | Size | Description | |
---|---|---|---|---|
Parent Directory | - | |||
install-summary.dcf | 12-Jun-2024 03:43 | 300 | ||
buildsrc-summary.dcf | 12-Jun-2024 03:43 | 474 | ||
checksrc-summary.dcf | 12-Jun-2024 03:43 | 506 | ||
buildbin-summary.dcf | 12-Jun-2024 03:43 | 623 | ||
buildsrc-out.txt | 12-Jun-2024 03:43 | 879 | ||
install-out.txt | 12-Jun-2024 03:43 | 1.0K | ||
buildbin-out.txt | 12-Jun-2024 03:43 | 1.3K | ||
checksrc-out.txt | 12-Jun-2024 03:43 | 3.4K | ||