Name | Last modified | Size | Description | |
---|---|---|---|---|
Parent Directory | - | |||
buildbin-out.txt | 03-Jul-2024 23:21 | 4.8K | ||
buildbin-summary.dcf | 03-Jul-2024 23:21 | 596 | ||
buildsrc-out.txt | 03-Jul-2024 23:21 | 890 | ||
buildsrc-summary.dcf | 03-Jul-2024 23:21 | 461 | ||
checksrc-out.txt | 03-Jul-2024 23:21 | 4.2K | ||
checksrc-summary.dcf | 03-Jul-2024 23:21 | 488 | ||
install-out.txt | 03-Jul-2024 23:21 | 2.5K | ||
install-summary.dcf | 03-Jul-2024 23:21 | 291 | ||