Name | Last modified | Size | Description | |
---|---|---|---|---|
Parent Directory | - | |||
install-summary.dcf | 26-Jun-2024 06:40 | 280 | ||
install-out.txt | 26-Jun-2024 06:40 | 1.6K | ||
buildsrc-out.txt | 26-Jun-2024 06:40 | 901 | ||
buildsrc-summary.dcf | 26-Jun-2024 06:40 | 476 | ||
checksrc-out.txt | 26-Jun-2024 06:40 | 5.6K | ||
checksrc-summary.dcf | 26-Jun-2024 06:40 | 471 | ||
buildbin-out.txt | 26-Jun-2024 06:40 | 1.8K | ||
buildbin-summary.dcf | 26-Jun-2024 06:40 | 551 | ||