Index of /checkResults/release/bioc-LATEST/GenProSeq/raw-results/kjohnson3
Name
Last modified
Size
Description
Parent Directory
-
buildsrc-out.txt
12-Jun-2024 03:43
1.6K
buildsrc-summary.dcf
12-Jun-2024 03:43
346
install-out.txt
12-Jun-2024 03:43
1.0K
install-summary.dcf
12-Jun-2024 03:43
272