Name | Last modified | Size | Description | |
---|---|---|---|---|
Parent Directory | - | |||
buildsrc-out.txt | 03-Jul-2024 23:19 | 881 | ||
buildsrc-summary.dcf | 03-Jul-2024 23:19 | 426 | ||
checksrc-out.txt | 03-Jul-2024 23:19 | 6.4K | ||
checksrc-summary.dcf | 03-Jul-2024 23:19 | 431 | ||
install-out.txt | 03-Jul-2024 23:19 | 969 | ||
install-summary.dcf | 03-Jul-2024 23:19 | 265 | ||