Name | Last modified | Size | Description | |
---|---|---|---|---|
Parent Directory | - | |||
buildsrc-out.txt | 26-Jun-2024 06:39 | 925 | ||
buildsrc-summary.dcf | 26-Jun-2024 06:39 | 429 | ||
checksrc-out.txt | 26-Jun-2024 06:39 | 4.8K | ||
checksrc-summary.dcf | 26-Jun-2024 06:39 | 434 | ||
install-out.txt | 26-Jun-2024 06:39 | 1.7K | ||
install-summary.dcf | 26-Jun-2024 06:39 | 267 | ||