Name | Last modified | Size | Description | |
---|---|---|---|---|
Parent Directory | - | |||
buildbin-out.txt | 19-Jun-2024 06:58 | 1.6K | ||
buildbin-summary.dcf | 19-Jun-2024 06:58 | 514 | ||
buildsrc-out.txt | 19-Jun-2024 06:58 | 908 | ||
buildsrc-summary.dcf | 19-Jun-2024 06:58 | 453 | ||
checksrc-out.txt | 19-Jun-2024 06:58 | 6.5K | ||
checksrc-summary.dcf | 19-Jun-2024 06:58 | 447 | ||
install-out.txt | 19-Jun-2024 06:58 | 1.5K | ||
install-summary.dcf | 19-Jun-2024 06:58 | 268 | ||