Index of /checkResults/release/bioc-LATEST/FLAMES/raw-results/kjohnson3
Name
Last modified
Size
Description
Parent Directory
-
buildsrc-out.txt
12-Jun-2024 03:43
13K
buildsrc-summary.dcf
12-Jun-2024 03:43
342
install-out.txt
12-Jun-2024 03:43
12K
install-summary.dcf
12-Jun-2024 03:43
271