Name | Last modified | Size | Description | |
---|---|---|---|---|
Parent Directory | - | |||
checksrc-out.txt | 17-Jul-2024 06:39 | 4.5K | ||
buildbin-out.txt | 17-Jul-2024 06:39 | 1.6K | ||
install-out.txt | 17-Jul-2024 06:39 | 1.5K | ||
buildsrc-out.txt | 17-Jul-2024 06:39 | 936 | ||
buildbin-summary.dcf | 17-Jul-2024 06:39 | 521 | ||
buildsrc-summary.dcf | 17-Jul-2024 06:39 | 456 | ||
checksrc-summary.dcf | 17-Jul-2024 06:39 | 450 | ||
install-summary.dcf | 17-Jul-2024 06:39 | 270 | ||