Index of /checkResults/release/bioc-LATEST/EBSeqHMM/raw-results/palomino3
Name
Last modified
Size
Description
Parent Directory
-
buildsrc-out.txt
26-Jun-2024 06:40
1.2K
buildsrc-summary.dcf
26-Jun-2024 06:40
370
install-out.txt
26-Jun-2024 06:40
850
install-summary.dcf
26-Jun-2024 06:40
272