Index of /checkResults/release/bioc-LATEST/EBSeqHMM/raw-results/nebbiolo1
Name
Last modified
Size
Description
Parent Directory
-
buildsrc-out.txt
26-Jun-2024 06:39
1.1K
buildsrc-summary.dcf
26-Jun-2024 06:39
334
install-out.txt
26-Jun-2024 06:39
864
install-summary.dcf
26-Jun-2024 06:39
263