Index of /checkResults/release/bioc-LATEST/EBSeqHMM/raw-results/merida1
Name
Last modified
Size
Description
Parent Directory
-
buildsrc-out.txt
26-Jun-2024 06:41
1.1K
buildsrc-summary.dcf
26-Jun-2024 06:41
344
install-out.txt
26-Jun-2024 06:41
925
install-summary.dcf
26-Jun-2024 06:41
273