Index of /checkResults/release/bioc-LATEST/EBSeqHMM/raw-results/kunpeng2
Name
Last modified
Size
Description
Parent Directory
-
buildsrc-out.txt
10-May-2024 00:40
1.1K
buildsrc-summary.dcf
10-May-2024 00:40
345
install-out.txt
10-May-2024 00:40
897
install-summary.dcf
10-May-2024 00:40
274