Index of /checkResults/release/bioc-LATEST/EBSeqHMM/raw-results/kjohnson1
Name
Last modified
Size
Description
Parent Directory
-
buildsrc-out.txt
26-Jun-2024 06:43
1.1K
buildsrc-summary.dcf
26-Jun-2024 06:43
344
install-out.txt
26-Jun-2024 06:43
923
install-summary.dcf
26-Jun-2024 06:43
273