Name | Last modified | Size | Description | |
---|---|---|---|---|
Parent Directory | - | |||
install-out.txt | 19-Jun-2024 06:57 | 957 | ||
install-summary.dcf | 19-Jun-2024 06:57 | 257 | ||
buildsrc-summary.dcf | 19-Jun-2024 06:57 | 415 | ||
buildsrc-out.txt | 19-Jun-2024 06:57 | 865 | ||
checksrc-out.txt | 19-Jun-2024 06:57 | 4.1K | ||
checksrc-summary.dcf | 19-Jun-2024 06:57 | 410 | ||