Index of /checkResults/release/bioc-LATEST/DEWSeq/raw-results/kunpeng2
Name
Last modified
Size
Description
Parent Directory
-
install-out.txt
10-May-2024 00:40
1.0K
install-summary.dcf
10-May-2024 00:40
268
buildsrc-out.txt
10-May-2024 00:40
1.0K
buildsrc-summary.dcf
10-May-2024 00:40
342