Name | Last modified | Size | Description | |
---|---|---|---|---|
Parent Directory | - | |||
buildsrc-out.txt | 26-Jun-2024 06:39 | 845 | ||
buildsrc-summary.dcf | 26-Jun-2024 06:39 | 415 | ||
checksrc-out.txt | 26-Jun-2024 06:39 | 3.1K | ||
checksrc-summary.dcf | 26-Jun-2024 06:39 | 412 | ||
install-out.txt | 26-Jun-2024 06:39 | 972 | ||
install-summary.dcf | 26-Jun-2024 06:39 | 258 | ||