Name | Last modified | Size | Description | |
---|---|---|---|---|
Parent Directory | - | |||
install-summary.dcf | 12-Jun-2024 03:42 | 268 | ||
install-out.txt | 12-Jun-2024 03:42 | 18K | ||
checksrc-summary.dcf | 12-Jun-2024 03:42 | 440 | ||
checksrc-out.txt | 12-Jun-2024 03:42 | 7.1K | ||
buildsrc-summary.dcf | 12-Jun-2024 03:42 | 424 | ||
buildsrc-out.txt | 12-Jun-2024 03:42 | 953 | ||
buildbin-summary.dcf | 12-Jun-2024 03:42 | 525 | ||
buildbin-out.txt | 12-Jun-2024 03:42 | 20K | ||