Name | Last modified | Size | Description | |
---|---|---|---|---|
Parent Directory | - | |||
buildsrc-out.txt | 03-Jul-2024 23:18 | 896 | ||
buildsrc-summary.dcf | 03-Jul-2024 23:18 | 427 | ||
checksrc-out.txt | 03-Jul-2024 23:18 | 35K | ||
checksrc-summary.dcf | 03-Jul-2024 23:18 | 431 | ||
install-out.txt | 03-Jul-2024 23:18 | 766K | ||
install-summary.dcf | 03-Jul-2024 23:18 | 266 | ||