Index of /checkResults/release/bioc-LATEST/ChemmineOB/raw-results/kjohnson3
Name
Last modified
Size
Description
Parent Directory
-
buildsrc-out.txt
12-Jun-2024 03:43
2.6K
buildsrc-summary.dcf
12-Jun-2024 03:43
348
install-out.txt
12-Jun-2024 03:43
2.3K
install-summary.dcf
12-Jun-2024 03:43
278