Index of /checkResults/release/bioc-LATEST/ChemmineOB/raw-results/kjohnson1
Name
Last modified
Size
Description
Parent Directory
-
buildsrc-out.txt
26-Jun-2024 06:43
2.6K
buildsrc-summary.dcf
26-Jun-2024 06:43
348
install-out.txt
26-Jun-2024 06:43
2.3K
install-summary.dcf
26-Jun-2024 06:43
278