Name | Last modified | Size | Description | |
---|---|---|---|---|
Parent Directory | - | |||
buildsrc-out.txt | 03-Jul-2024 23:18 | 858 | ||
buildsrc-summary.dcf | 03-Jul-2024 23:18 | 433 | ||
checksrc-out.txt | 03-Jul-2024 23:18 | 4.2K | ||
checksrc-summary.dcf | 03-Jul-2024 23:18 | 434 | ||
install-out.txt | 03-Jul-2024 23:18 | 1.1K | ||
install-summary.dcf | 03-Jul-2024 23:18 | 269 | ||