Name | Last modified | Size | Description | |
---|---|---|---|---|
Parent Directory | - | |||
buildbin-out.txt | 29-Jun-2024 06:41 | 1.7K | ||
buildbin-summary.dcf | 29-Jun-2024 06:41 | 521 | ||
buildsrc-out.txt | 29-Jun-2024 06:41 | 936 | ||
buildsrc-summary.dcf | 29-Jun-2024 06:41 | 454 | ||
checksrc-out.txt | 29-Jun-2024 06:41 | 6.3K | ||
checksrc-summary.dcf | 29-Jun-2024 06:41 | 451 | ||
install-out.txt | 29-Jun-2024 06:41 | 1.6K | ||
install-summary.dcf | 29-Jun-2024 06:41 | 270 | ||