Name | Last modified | Size | Description | |
---|---|---|---|---|
Parent Directory | - | |||
buildsrc-out.txt | 03-Jul-2024 23:18 | 1.5K | ||
buildsrc-summary.dcf | 03-Jul-2024 23:18 | 351 | ||
checksrc-out.txt | 08-Mar-2024 02:01 | 4.5K | ||
checksrc-summary.dcf | 08-Mar-2024 02:01 | 456 | ||
install-out.txt | 03-Jul-2024 23:18 | 8.4K | ||
install-summary.dcf | 03-Jul-2024 23:18 | 277 | ||