Index of /checkResults/release/bioc-LATEST/CellaRepertorium/raw-results/kjohnson1
Name
Last modified
Size
Description
Parent Directory
-
buildsrc-out.txt
03-Jul-2024 23:22
1.6K
buildsrc-summary.dcf
03-Jul-2024 23:22
361
install-out.txt
03-Jul-2024 23:22
4.1K
install-summary.dcf
03-Jul-2024 23:22
287