Name | Last modified | Size | Description | |
---|---|---|---|---|
Parent Directory | - | |||
buildsrc-out.txt | 03-Jul-2024 23:18 | 865 | ||
buildsrc-summary.dcf | 03-Jul-2024 23:18 | 414 | ||
checksrc-out.txt | 03-Jul-2024 23:18 | 4.3K | ||
checksrc-summary.dcf | 03-Jul-2024 23:18 | 413 | ||
install-out.txt | 03-Jul-2024 23:18 | 1.2K | ||
install-summary.dcf | 03-Jul-2024 23:18 | 257 | ||