Name | Last modified | Size | Description | |
---|---|---|---|---|
Parent Directory | - | |||
buildbin-out.txt | 19-Jun-2024 06:58 | 15K | ||
buildbin-summary.dcf | 19-Jun-2024 06:58 | 515 | ||
buildsrc-out.txt | 19-Jun-2024 06:58 | 931 | ||
buildsrc-summary.dcf | 19-Jun-2024 06:58 | 450 | ||
checksrc-out.txt | 19-Jun-2024 06:58 | 5.7K | ||
checksrc-summary.dcf | 19-Jun-2024 06:58 | 453 | ||
install-out.txt | 19-Jun-2024 06:58 | 15K | ||
install-summary.dcf | 19-Jun-2024 06:58 | 268 | ||