Name | Last modified | Size | Description | |
---|---|---|---|---|
Parent Directory | - | |||
buildbin-out.txt | 29-Jun-2024 06:41 | 1.1K | ||
buildbin-summary.dcf | 29-Jun-2024 06:41 | 533 | ||
buildsrc-out.txt | 29-Jun-2024 06:41 | 914 | ||
buildsrc-summary.dcf | 29-Jun-2024 06:41 | 464 | ||
checksrc-out.txt | 29-Jun-2024 06:41 | 6.0K | ||
checksrc-summary.dcf | 29-Jun-2024 06:41 | 464 | ||
install-out.txt | 29-Jun-2024 06:41 | 1.0K | ||
install-summary.dcf | 29-Jun-2024 06:41 | 274 | ||