Name | Last modified | Size | Description | |
---|---|---|---|---|
Parent Directory | - | |||
buildbin-out.txt | 17-Jul-2024 06:39 | 3.2K | ||
buildbin-summary.dcf | 17-Jul-2024 06:39 | 598 | ||
checksrc-out.txt | 17-Jul-2024 06:39 | 7.0K | ||
checksrc-summary.dcf | 17-Jul-2024 06:39 | 502 | ||
buildsrc-summary.dcf | 17-Jul-2024 06:39 | 507 | ||
buildsrc-out.txt | 17-Jul-2024 06:39 | 851 | ||
install-summary.dcf | 17-Jul-2024 06:39 | 296 | ||
install-out.txt | 17-Jul-2024 06:39 | 3.0K | ||