Name | Last modified | Size | Description | |
---|---|---|---|---|
Parent Directory | - | |||
buildsrc-out.txt | 17-Jul-2024 06:38 | 805 | ||
buildsrc-summary.dcf | 17-Jul-2024 06:38 | 458 | ||
checksrc-out.txt | 17-Jul-2024 06:38 | 6.5K | ||
checksrc-summary.dcf | 17-Jul-2024 06:38 | 469 | ||
install-out.txt | 17-Jul-2024 06:38 | 2.9K | ||
install-summary.dcf | 17-Jul-2024 06:38 | 287 | ||