Name | Last modified | Size | Description | |
---|---|---|---|---|
Parent Directory | - | |||
checksrc-out.txt | 17-Jul-2024 06:40 | 6.5K | ||
buildbin-out.txt | 17-Jul-2024 06:40 | 5.0K | ||
install-out.txt | 17-Jul-2024 06:40 | 2.8K | ||
buildsrc-out.txt | 17-Jul-2024 06:40 | 815 | ||
buildbin-summary.dcf | 17-Jul-2024 06:40 | 613 | ||
checksrc-summary.dcf | 17-Jul-2024 06:40 | 499 | ||
buildsrc-summary.dcf | 17-Jul-2024 06:40 | 468 | ||
install-summary.dcf | 17-Jul-2024 06:40 | 297 | ||