Name | Last modified | Size | Description | |
---|---|---|---|---|
Parent Directory | - | |||
buildbin-summary.dcf | 12-Jun-2024 03:43 | 614 | ||
buildbin-out.txt | 12-Jun-2024 03:43 | 5.0K | ||
checksrc-summary.dcf | 12-Jun-2024 03:43 | 499 | ||
checksrc-out.txt | 12-Jun-2024 03:43 | 6.5K | ||
buildsrc-summary.dcf | 12-Jun-2024 03:43 | 468 | ||
buildsrc-out.txt | 12-Jun-2024 03:43 | 815 | ||
install-summary.dcf | 12-Jun-2024 03:43 | 296 | ||
install-out.txt | 12-Jun-2024 03:43 | 2.8K | ||